BEGIN:VCALENDAR
VERSION:2.0
PRODID:-//Riley-Smith Hall - ECPv6.15.20//NONSGML v1.0//EN
CALSCALE:GREGORIAN
METHOD:PUBLISH
X-ORIGINAL-URL:https://rileysmithhall.org.uk
X-WR-CALDESC:Events for Riley-Smith Hall
REFRESH-INTERVAL;VALUE=DURATION:PT1H
X-Robots-Tag:noindex
X-PUBLISHED-TTL:PT1H
BEGIN:VTIMEZONE
TZID:UTC
BEGIN:STANDARD
TZOFFSETFROM:+0000
TZOFFSETTO:+0000
TZNAME:UTC
DTSTART:20250101T000000
END:STANDARD
END:VTIMEZONE
BEGIN:VEVENT
DTSTART;TZID=UTC:20261006T120000
DTEND;TZID=UTC:20261006T150000
DTSTAMP:20260419T133410
CREATED:20250904T130723Z
LAST-MODIFIED:20250904T130723Z
UID:2297-1791288000-1791298800@rileysmithhall.org.uk
SUMMARY:Matinee Ballroom\, Strictly Ballroom and Latin Social Dance
DESCRIPTION:Social dancing with Jackie Hinde of Dance night. \nDoors open from 12noon and refreshments are on sale. \nDancing starts at 12noon for three hours. \nThis Social Dance is strictly Ballroom and Latin. \nPay on the door and no need to book. \n£7 per person \n  \n 
URL:https://rileysmithhall.org.uk/event/matinee-ballroom-strictly-ballroom-and-latin-social-dance-42/
LOCATION:Riley-Smith Hall\, 28 Westgate\, Tadcaster\, LS24 9AB\, United Kingdom
ORGANIZER;CN="Jackie":MAILTO:jackie@dancenight.co.uk
END:VEVENT
BEGIN:VEVENT
DTSTART;VALUE=DATE:20261010
DTEND;VALUE=DATE:20261011
DTSTAMP:20260419T133410
CREATED:20250826T211637Z
LAST-MODIFIED:20250826T211928Z
UID:2215-1791590400-1791676799@rileysmithhall.org.uk
SUMMARY:Sabor y Salsa – Workshops and Evening Dancing
DESCRIPTION:Save the date!\nMore details to follow…\nThere’s a reasonably priced bar at the venue so please support it and definitely don’t bring your own drinks
URL:https://rileysmithhall.org.uk/event/sabor-y-salsa-workshops-and-evening-dancing-9/
LOCATION:Riley-Smith Hall\, 28 Westgate\, Tadcaster\, LS24 9AB\, United Kingdom
END:VEVENT
BEGIN:VEVENT
DTSTART;TZID=UTC:20261016T193000
DTEND;TZID=UTC:20261016T193000
DTSTAMP:20260419T133410
CREATED:20250827T083255Z
LAST-MODIFIED:20250827T083255Z
UID:2255-1792179000-1792179000@rileysmithhall.org.uk
SUMMARY:Yorkshire Freestyle night with Revolution dance (Modern Jive)
DESCRIPTION:Event Highlights4 hours of great music from 7:30pm–11:30pmOnly £10 per person – cash or cardPurchase in advance via our website:Lovely\, sociable dancers.\nHelp us spread the word and support this new freestyle night!\nExpect a diverse mix of music genres throughout the night – not just one style.Around 11pm\, we’ll ease into more chilled tracks: Smooth Jive\, Jango\, Blues\, and your requests.\nYour HostsMusic by Keith Davies (Revolution Dance)Welcomed at the door by Janey\, Alison & Ian – making sure you feel right at home!\nMusic RequestsTo make sure we can include your favourite tracks:\nPlease email song requests before 4pm on the dayWe’ll also take requests on the night\, and play them if we have them availableEmail: keith@revolutiondance.co.uk\nNeed Help or Info?Contact Keith between 11am–8pm:Tel/Text: 07973 350 210. Or Email: keith@revolutiondance.co.uk
URL:https://rileysmithhall.org.uk/event/yorkshire-freestyle-night-with-revolution-dance-modern-jive-15/
LOCATION:Riley-Smith Hall\, 28 Westgate\, Tadcaster\, LS24 9AB\, United Kingdom
ATTACH;FMTTYPE=image/jpeg:https://rileysmithhall.org.uk/wp-content/uploads/2025/08/thumbnail_Riley-Smith-Hall-Freestyle-A4-for-the-hall.jpg
END:VEVENT
BEGIN:VEVENT
DTSTART;TZID=UTC:20261021T120000
DTEND;TZID=UTC:20261021T150000
DTSTAMP:20260419T133410
CREATED:20250904T134110Z
LAST-MODIFIED:20250904T134110Z
UID:2346-1792584000-1792594800@rileysmithhall.org.uk
SUMMARY:Matinee Take 2\, Ballroom\, Latin and Popular Sequence Social Dance
DESCRIPTION:Social Dance with Jackie Hinde of Dance Night. \nThis monthly dance is Ballroom\, Latin and Popular Sequence. \nDoors open at 12noon\, refreshments are on sale and music starts at 12 noon until 3pm. \nNo need to book\, just turn up and pay on the door. \n 
URL:https://rileysmithhall.org.uk/event/matinee-take-2-ballroom-latin-and-popular-sequence-social-dance-40/
LOCATION:Riley-Smith Hall\, 28 Westgate\, Tadcaster\, LS24 9AB\, United Kingdom
ORGANIZER;CN="Jackie":MAILTO:jackie@dancenight.co.uk
END:VEVENT
BEGIN:VEVENT
DTSTART;TZID=UTC:20261030T200000
DTEND;TZID=UTC:20261030T200000
DTSTAMP:20260419T133410
CREATED:20250904T132355Z
LAST-MODIFIED:20250904T132355Z
UID:2322-1793390400-1793390400@rileysmithhall.org.uk
SUMMARY:Ceroc Modern Jive Freestyle
DESCRIPTION:Ceroc Modern Jive Freestyle. \n8pm – Midnight. Music\, social dancing and licensed bar all evening \n 
URL:https://rileysmithhall.org.uk/event/ceroc-modern-jive-freestyle-53/
LOCATION:Riley-Smith Hall\, 28 Westgate\, Tadcaster\, LS24 9AB\, United Kingdom
END:VEVENT
BEGIN:VEVENT
DTSTART;TZID=UTC:20261103T120000
DTEND;TZID=UTC:20261103T150000
DTSTAMP:20260419T133410
CREATED:20250904T130834Z
LAST-MODIFIED:20250904T130834Z
UID:2299-1793707200-1793718000@rileysmithhall.org.uk
SUMMARY:Matinee Ballroom\, Strictly Ballroom and Latin Social Dance
DESCRIPTION:Social dancing with Jackie Hinde of Dance night. \nDoors open from 12noon and refreshments are on sale. \nDancing starts at 12noon for three hours. \nThis Social Dance is strictly Ballroom and Latin. \nPay on the door and no need to book. \n£7 per person \n  \n 
URL:https://rileysmithhall.org.uk/event/matinee-ballroom-strictly-ballroom-and-latin-social-dance-43/
LOCATION:Riley-Smith Hall\, 28 Westgate\, Tadcaster\, LS24 9AB\, United Kingdom
ORGANIZER;CN="Jackie":MAILTO:jackie@dancenight.co.uk
END:VEVENT
BEGIN:VEVENT
DTSTART;TZID=UTC:20261106T193000
DTEND;TZID=UTC:20261106T233000
DTSTAMP:20260419T133410
CREATED:20260117T153715Z
LAST-MODIFIED:20260117T153715Z
UID:2487-1793993400-1794007800@rileysmithhall.org.uk
SUMMARY:Rayner Rock and Roll dance night
DESCRIPTION:  \nBar open\, tea and coffee available \ncall Eileen  on 07752333094 to reserve a ticket\, then pay on the door \nDoors open at 7pm\, dancing starts at 7:30pm\, finish at 11:30pm \n  \n 
URL:https://rileysmithhall.org.uk/event/rayner-rock-and-roll-dance-night-28/
LOCATION:Riley-Smith Hall\, 28 Westgate\, Tadcaster\, LS24 9AB\, United Kingdom
END:VEVENT
BEGIN:VEVENT
DTSTART;TZID=UTC:20261113T200000
DTEND;TZID=UTC:20261113T200000
DTSTAMP:20260419T133410
CREATED:20250904T132441Z
LAST-MODIFIED:20250904T132441Z
UID:2324-1794600000-1794600000@rileysmithhall.org.uk
SUMMARY:Ceroc Modern Jive Freestyle
DESCRIPTION:Ceroc Modern Jive Freestyle. \n8pm – Midnight. Music\, social dancing and licensed bar all evening \n 
URL:https://rileysmithhall.org.uk/event/ceroc-modern-jive-freestyle-54/
LOCATION:Riley-Smith Hall\, 28 Westgate\, Tadcaster\, LS24 9AB\, United Kingdom
END:VEVENT
BEGIN:VEVENT
DTSTART;VALUE=DATE:20261114
DTEND;VALUE=DATE:20261115
DTSTAMP:20260419T133410
CREATED:20250826T212121Z
LAST-MODIFIED:20250826T212121Z
UID:2217-1794614400-1794700799@rileysmithhall.org.uk
SUMMARY:Sabor y Salsa – Workshops and Evening Dancing
DESCRIPTION:Save the date!\nMore details to follow…\nThere’s a reasonably priced bar at the venue so please support it and definitely don’t bring your own drinks
URL:https://rileysmithhall.org.uk/event/sabor-y-salsa-workshops-and-evening-dancing-10/
LOCATION:Riley-Smith Hall\, 28 Westgate\, Tadcaster\, LS24 9AB\, United Kingdom
END:VEVENT
BEGIN:VEVENT
DTSTART;TZID=UTC:20261118T120000
DTEND;TZID=UTC:20261118T150000
DTSTAMP:20260419T133410
CREATED:20250904T134157Z
LAST-MODIFIED:20250904T134157Z
UID:2348-1795003200-1795014000@rileysmithhall.org.uk
SUMMARY:Matinee Take 2\, Ballroom\, Latin and Popular Sequence Social Dance
DESCRIPTION:Social Dance with Jackie Hinde of Dance Night. \nThis monthly dance is Ballroom\, Latin and Popular Sequence. \nDoors open at 12noon\, refreshments are on sale and music starts at 12 noon until 3pm. \nNo need to book\, just turn up and pay on the door. \n 
URL:https://rileysmithhall.org.uk/event/matinee-take-2-ballroom-latin-and-popular-sequence-social-dance-41/
LOCATION:Riley-Smith Hall\, 28 Westgate\, Tadcaster\, LS24 9AB\, United Kingdom
ORGANIZER;CN="Jackie":MAILTO:jackie@dancenight.co.uk
END:VEVENT
BEGIN:VEVENT
DTSTART;TZID=UTC:20261120T193000
DTEND;TZID=UTC:20261120T193000
DTSTAMP:20260419T133410
CREATED:20250827T083410Z
LAST-MODIFIED:20250827T083410Z
UID:2257-1795203000-1795203000@rileysmithhall.org.uk
SUMMARY:Yorkshire Freestyle night with Revolution dance (Modern Jive)
DESCRIPTION:Event Highlights4 hours of great music from 7:30pm–11:30pmOnly £10 per person – cash or cardPurchase in advance via our website:Lovely\, sociable dancers.\nHelp us spread the word and support this new freestyle night!\nExpect a diverse mix of music genres throughout the night – not just one style.Around 11pm\, we’ll ease into more chilled tracks: Smooth Jive\, Jango\, Blues\, and your requests.\nYour HostsMusic by Keith Davies (Revolution Dance)Welcomed at the door by Janey\, Alison & Ian – making sure you feel right at home!\nMusic RequestsTo make sure we can include your favourite tracks:\nPlease email song requests before 4pm on the dayWe’ll also take requests on the night\, and play them if we have them availableEmail: keith@revolutiondance.co.uk\nNeed Help or Info?Contact Keith between 11am–8pm:Tel/Text: 07973 350 210. Or Email: keith@revolutiondance.co.uk
URL:https://rileysmithhall.org.uk/event/yorkshire-freestyle-night-with-revolution-dance-modern-jive-16/
LOCATION:Riley-Smith Hall\, 28 Westgate\, Tadcaster\, LS24 9AB\, United Kingdom
ATTACH;FMTTYPE=image/jpeg:https://rileysmithhall.org.uk/wp-content/uploads/2025/08/thumbnail_Riley-Smith-Hall-Freestyle-A4-for-the-hall.jpg
END:VEVENT
BEGIN:VEVENT
DTSTART;TZID=UTC:20261201T120000
DTEND;TZID=UTC:20261201T150000
DTSTAMP:20260419T133410
CREATED:20250904T130925Z
LAST-MODIFIED:20250904T131010Z
UID:2301-1796126400-1796137200@rileysmithhall.org.uk
SUMMARY:Matinee Ballroom\, Strictly Ballroom and Latin Social Dance
DESCRIPTION:Social dancing with Jackie Hinde of Dance night. \nDoors open from 12noon and refreshments are on sale. \nDancing starts at 12noon for three hours. \nThis Social Dance is strictly Ballroom and Latin. \nPay on the door and no need to book. \n£7 per person \n  \n 
URL:https://rileysmithhall.org.uk/event/matinee-ballroom-strictly-ballroom-and-latin-social-dance-44/
LOCATION:Riley-Smith Hall\, 28 Westgate\, Tadcaster\, LS24 9AB\, United Kingdom
ORGANIZER;CN="Jackie":MAILTO:jackie@dancenight.co.uk
END:VEVENT
BEGIN:VEVENT
DTSTART;TZID=UTC:20261204T193000
DTEND;TZID=UTC:20261204T233000
DTSTAMP:20260419T133410
CREATED:20260117T153746Z
LAST-MODIFIED:20260117T153746Z
UID:2486-1796412600-1796427000@rileysmithhall.org.uk
SUMMARY:Rayner Rock and Roll dance night
DESCRIPTION:  \nBar open\, tea and coffee available \ncall Eileen  on 07752333094 to reserve a ticket\, then pay on the door \nDoors open at 7pm\, dancing starts at 7:30pm\, finish at 11:30pm \n  \n 
URL:https://rileysmithhall.org.uk/event/rayner-rock-and-roll-dance-night-29/
LOCATION:Riley-Smith Hall\, 28 Westgate\, Tadcaster\, LS24 9AB\, United Kingdom
END:VEVENT
BEGIN:VEVENT
DTSTART;TZID=UTC:20261211T200000
DTEND;TZID=UTC:20261211T200000
DTSTAMP:20260419T133410
CREATED:20250904T132526Z
LAST-MODIFIED:20250904T132526Z
UID:2326-1797019200-1797019200@rileysmithhall.org.uk
SUMMARY:Ceroc Modern Jive Freestyle
DESCRIPTION:Ceroc Modern Jive Freestyle. \n8pm – Midnight. Music\, social dancing and licensed bar all evening \n 
URL:https://rileysmithhall.org.uk/event/ceroc-modern-jive-freestyle-55/
LOCATION:Riley-Smith Hall\, 28 Westgate\, Tadcaster\, LS24 9AB\, United Kingdom
END:VEVENT
BEGIN:VEVENT
DTSTART;VALUE=DATE:20261212
DTEND;VALUE=DATE:20261213
DTSTAMP:20260419T133410
CREATED:20250826T212209Z
LAST-MODIFIED:20250826T212209Z
UID:2219-1797033600-1797119999@rileysmithhall.org.uk
SUMMARY:Sabor y Salsa – Workshops and Evening Dancing
DESCRIPTION:Save the date!\nMore details to follow…\nThere’s a reasonably priced bar at the venue so please support it and definitely don’t bring your own drinks
URL:https://rileysmithhall.org.uk/event/sabor-y-salsa-workshops-and-evening-dancing-11/
LOCATION:Riley-Smith Hall\, 28 Westgate\, Tadcaster\, LS24 9AB\, United Kingdom
END:VEVENT
BEGIN:VEVENT
DTSTART;TZID=UTC:20261218T193000
DTEND;TZID=UTC:20261218T193000
DTSTAMP:20260419T133410
CREATED:20250827T083644Z
LAST-MODIFIED:20250827T083824Z
UID:2259-1797622200-1797622200@rileysmithhall.org.uk
SUMMARY:Yorkshire Freestyle night with Revolution dance (Christmas party night)
DESCRIPTION:Event Highlights4 hours of great music from 7:30pm–11:30pmPrice to – cash or cardPurchase in advance via our website:Lovely\, sociable dancers.\nHelp us spread the word and support this new freestyle night!\nExpect a diverse mix of music genres throughout the night – not just one style.Around 11pm\, we’ll ease into more chilled tracks: Smooth Jive\, Jango\, Blues\, and your requests.\nYour HostsMusic by Keith Davies (Revolution Dance)Welcomed at the door by Janey\, Alison & Ian – making sure you feel right at home!\nMusic RequestsTo make sure we can include your favourite tracks:\nPlease email song requests before 4pm on the dayWe’ll also take requests on the night\, and play them if we have them availableEmail: keith@revolutiondance.co.uk\nNeed Help or Info?Contact Keith between 11am–8pm:Tel/Text: 07973 350 210. Or Email: keith@revolutiondance.co.uk
URL:https://rileysmithhall.org.uk/event/yorkshire-freestyle-night-with-revolution-dance-christmas-party-night/
LOCATION:Riley-Smith Hall\, 28 Westgate\, Tadcaster\, LS24 9AB\, United Kingdom
ATTACH;FMTTYPE=image/jpeg:https://rileysmithhall.org.uk/wp-content/uploads/2025/08/thumbnail_Riley-Smith-Hall-Freestyle-A4-for-the-hall.jpg
END:VEVENT
BEGIN:VEVENT
DTSTART;TZID=UTC:20261231T193000
DTEND;TZID=UTC:20261231T193000
DTSTAMP:20260419T133410
CREATED:20260117T153854Z
LAST-MODIFIED:20260117T153854Z
UID:2485-1798745400-1798745400@rileysmithhall.org.uk
SUMMARY:Rayner Rock and Roll New Years Eve Dance
DESCRIPTION:  \nBar open\, tea and coffee available \ncall Eileen  on 07752333094 to reserve a ticket\, then pay on the door \nDoors open at 7pm\, dancing starts at 7:30pm \n  \n 
URL:https://rileysmithhall.org.uk/event/rayner-rock-and-roll-new-years-eve-dance-3/
LOCATION:Riley-Smith Hall\, 28 Westgate\, Tadcaster\, LS24 9AB\, United Kingdom
END:VEVENT
END:VCALENDAR